BEGIN:VCALENDAR
VERSION:2.0
PRODID:-//Ka&#039;Fête ô Mômes - ECPv5.9.0//NONSGML v1.0//EN
CALSCALE:GREGORIAN
METHOD:PUBLISH
X-WR-CALNAME:Ka&#039;Fête ô Mômes
X-ORIGINAL-URL:https://kafeteomomes.fr
X-WR-CALDESC:Évènements pour Ka&#039;Fête ô Mômes
BEGIN:VTIMEZONE
TZID:Europe/Paris
BEGIN:DAYLIGHT
TZOFFSETFROM:+0100
TZOFFSETTO:+0200
TZNAME:CEST
DTSTART:20220327T010000
END:DAYLIGHT
BEGIN:STANDARD
TZOFFSETFROM:+0200
TZOFFSETTO:+0100
TZNAME:CET
DTSTART:20221030T010000
END:STANDARD
END:VTIMEZONE
BEGIN:VEVENT
DTSTART;TZID=Europe/Paris:20220224T100000
DTEND;TZID=Europe/Paris:20220224T120000
DTSTAMP:20260422T002100
CREATED:20220214T152916Z
LAST-MODIFIED:20220223T162252Z
UID:5353-1645696800-1645704000@kafeteomomes.fr
SUMMARY:Histoires d'Ours / ANNULE !
DESCRIPTION:Lectures contées & création\nProposé par Aurélie de « Aurelit »\nLectures\, comptines et jeux de doigts sur le thème des ours\, suivis d’un temps de création artistique adaptée aux petites mains. \n\nUn peu plus sur Aurélie…\nAurélie est passionnée de lecture à voix haute et de littérature jeunesse et en a fait son métier\, puisqu’elle est bibliothécaire jeunesse. Avec sa structure Aurelit\, elle veut transmettre aux enfants ces deux passions\, à travers des lectures à voix haute thématiques\, musicales\, etc. \nEnfant à partir de 6 ans \nTarif : 18€/enfant\n11€/enfant pour les titulaires des minimas sociaux (RSA\, ASS\, AAH\, ASPA…)\nTitulaire d’un « compte famille Ka’fête » : nous contacter pour réserver\nInfos : 04 78 61 21 79 ou CONTACT
URL:https://kafeteomomes.fr/evenement/histoires-dours/
LOCATION:Ka’Fête ô Mômes\, 3 Montée des Esses\, Lyon\, 69004\, France
CATEGORIES:7 - 12 ans
ATTACH;FMTTYPE=image/jpeg:https://kafeteomomes.fr/uploads/2022/02/atelierours-e1644850792488.jpeg
GEO:45.7740305;4.8122498
X-APPLE-STRUCTURED-LOCATION;VALUE=URI;X-ADDRESS=Ka’Fête ô Mômes 3 Montée des Esses Lyon 69004 France;X-APPLE-RADIUS=500;X-TITLE=3 Montée des Esses:geo:4.8122498,45.7740305
END:VEVENT
END:VCALENDAR