BEGIN:VCALENDAR
VERSION:2.0
PRODID:-//Ka&#039;Fête ô Mômes - ECPv5.9.0//NONSGML v1.0//EN
CALSCALE:GREGORIAN
METHOD:PUBLISH
X-WR-CALNAME:Ka&#039;Fête ô Mômes
X-ORIGINAL-URL:https://kafeteomomes.fr
X-WR-CALDESC:Évènements pour Ka&#039;Fête ô Mômes
BEGIN:VTIMEZONE
TZID:Europe/Paris
BEGIN:DAYLIGHT
TZOFFSETFROM:+0100
TZOFFSETTO:+0200
TZNAME:CEST
DTSTART:20220327T010000
END:DAYLIGHT
BEGIN:STANDARD
TZOFFSETFROM:+0200
TZOFFSETTO:+0100
TZNAME:CET
DTSTART:20221030T010000
END:STANDARD
END:VTIMEZONE
BEGIN:VEVENT
DTSTART;TZID=Europe/Paris:20220216T160000
DTEND;TZID=Europe/Paris:20220216T180000
DTSTAMP:20260421T182859
CREATED:20220207T160811Z
LAST-MODIFIED:20220209T151419Z
UID:5341-1645027200-1645034400@kafeteomomes.fr
SUMMARY:Goûter-Atelier DIY en famille
DESCRIPTION:Créations en patchwork\n\nProposé par Maly\, notre señorita bénévole\nEn famille\, avec les copains ou en solo\, vous dégusterez un bon goûter maison et coudrez des créations façon patchwork\, avec des tissus recyclés  ! \nTarif FORMULE goûter-atelier : 10€ (duo adulte/enfant) ou 5€ (solo)\nInfos & réservation : nina@kafeteomomes.fr ou 04 78 61 21 79
URL:https://kafeteomomes.fr/evenement/gouter-atelier-diy-en-famille-3/
LOCATION:Ka’Fête ô Mômes\, 3 Montée des Esses\, Lyon\, 69004\, France
CATEGORIES:7 - 12 ans,Parents/Enfants,Tous public
ATTACH;FMTTYPE=image/jpeg:https://kafeteomomes.fr/uploads/2022/02/Maly-DIY-e1644419542272.jpg
GEO:45.7740305;4.8122498
X-APPLE-STRUCTURED-LOCATION;VALUE=URI;X-ADDRESS=Ka’Fête ô Mômes 3 Montée des Esses Lyon 69004 France;X-APPLE-RADIUS=500;X-TITLE=3 Montée des Esses:geo:4.8122498,45.7740305
END:VEVENT
END:VCALENDAR