BEGIN:VCALENDAR
VERSION:2.0
PRODID:-//Ka&#039;Fête ô Mômes - ECPv5.9.0//NONSGML v1.0//EN
CALSCALE:GREGORIAN
METHOD:PUBLISH
X-WR-CALNAME:Ka&#039;Fête ô Mômes
X-ORIGINAL-URL:https://kafeteomomes.fr
X-WR-CALDESC:Évènements pour Ka&#039;Fête ô Mômes
BEGIN:VTIMEZONE
TZID:Europe/Paris
BEGIN:DAYLIGHT
TZOFFSETFROM:+0100
TZOFFSETTO:+0200
TZNAME:CEST
DTSTART:20220327T010000
END:DAYLIGHT
BEGIN:STANDARD
TZOFFSETFROM:+0200
TZOFFSETTO:+0100
TZNAME:CET
DTSTART:20221030T010000
END:STANDARD
END:VTIMEZONE
BEGIN:VEVENT
DTSTART;TZID=Europe/Paris:20220205T100000
DTEND;TZID=Europe/Paris:20220205T104500
DTSTAMP:20260421T212156
CREATED:20220112T155455Z
LAST-MODIFIED:20230612T120036Z
UID:5273-1644055200-1644057900@kafeteomomes.fr
SUMMARY:Éveil musical & corporel parent/enfant
DESCRIPTION:Libérer sa créativité en musique !\n\nProposé par Anne Wirz\, chanteuse\, auteure poétique & compositrice\n\n \n  \nAnne\, des Ateliers La Fleur-Soleil\, vous propose une séance d’éveil musical et corporel pour apporter bien-être et détente et faciliter les échanges parent/enfant\, à travers le chant\, l’exploration d’instruments et des jeux ludiques et corporels\, tout en musique et en thèmes liés à la nature. \n  \n  \nPourquoi participer à un atelier d’éveil musical ?\nL’éveil musical est un moment à part\, source de détente pour les petits et leurs parents\, et vrai moment d’échange avec bébé : une petite bulle de sérénité dans nos vies souvent très mouvementées ! Il permet aussi de développer la capacité de concentration de l’enfant. \nPlus largement\, la musique favorise un bon développement de votre enfant. Le cerveau reçoit plein d’informations qui stimulent aussi bien la zone de la perception sensorielle que celle des émotions. De plus\, manipuler des petits instruments – grelots ou plus tard xylophone –  contribue à développer la motricité fine ainsi que la coordination des mouvements. \nAttention toutefois : les tout-petits ayant une capacité de concentration encore assez brève\, l’activité d’éveil musical\, très stimulante\, est fatigante et ne doit donc pas durer trop longtemps ! \nRetrouvez La Fleur Soleil sur Instagram & Facebook. \n1 adulte + 1 enfant de 6 à 23 mois\nTarif : 13€/duo (5€ par personne supplémentaire) ou 8€/duo pour les minimas sociaux (3€ par personne supplémentaire)\nInfos : 04 78 61 21 79 ou CONTACT\nJe clique ICI pour m’inscrire à cet atelier !
URL:https://kafeteomomes.fr/evenement/eveil-musical-corporel-parent-enfant/2022-02-05/
LOCATION:Ka’Fête ô Mômes\, 3 Montée des Esses\, Lyon\, 69004\, France
CATEGORIES:Parents/Enfants
ATTACH;FMTTYPE=image/jpeg:https://kafeteomomes.fr/uploads/2022/01/20220402_102514-bis-e1650981689660.jpg
GEO:45.7740305;4.8122498
X-APPLE-STRUCTURED-LOCATION;VALUE=URI;X-ADDRESS=Ka’Fête ô Mômes 3 Montée des Esses Lyon 69004 France;X-APPLE-RADIUS=500;X-TITLE=3 Montée des Esses:geo:4.8122498,45.7740305
END:VEVENT
END:VCALENDAR