BEGIN:VCALENDAR
VERSION:2.0
PRODID:-//Ka&#039;Fête ô Mômes - ECPv5.9.0//NONSGML v1.0//EN
CALSCALE:GREGORIAN
METHOD:PUBLISH
X-WR-CALNAME:Ka&#039;Fête ô Mômes
X-ORIGINAL-URL:https://kafeteomomes.fr
X-WR-CALDESC:Évènements pour Ka&#039;Fête ô Mômes
BEGIN:VTIMEZONE
TZID:Europe/Paris
BEGIN:DAYLIGHT
TZOFFSETFROM:+0100
TZOFFSETTO:+0200
TZNAME:CEST
DTSTART:20220327T010000
END:DAYLIGHT
BEGIN:STANDARD
TZOFFSETFROM:+0200
TZOFFSETTO:+0100
TZNAME:CET
DTSTART:20221030T010000
END:STANDARD
END:VTIMEZONE
BEGIN:VEVENT
DTSTART;TZID=Europe/Paris:20220225T103000
DTEND;TZID=Europe/Paris:20220225T113000
DTSTAMP:20260422T042911
CREATED:20220118T153448Z
LAST-MODIFIED:20220224T101839Z
UID:5271-1645785000-1645788600@kafeteomomes.fr
SUMMARY:Découverte de la musique / ANNULE !
DESCRIPTION:Exploration ludique du monde sonore & musical\nProposé par Paula Quiroga – musicienne & chanteuse\n\nUn atelier ludique pour s’ouvrir au monde de la musique\, pour explorer sa voix et son corps comme instruments et sources du geste musical. L’adulte accompagnateur est le bienvenu ! \n  \nLes bienfaits de la musique pour l’enfant…\n\nelle est bonne pour le développement cérébral de l’enfant : elle sollicite les zones du langage\, de la concentration\, de la mémorisation\, de la temporalité et de la coordination psychomotrice\nelle permet à l’enfant de développer son vocabulaire par les jeux de mots\, de langue\, les bruitages\nelle favorise la conscience de soi\, de son corps\, notamment par les comptines explorant les parties du corps\nelle favorise l’ouverture à l’autre.\n\n  \nUn peu plus sur Paula Quiroga…\nPaula a grandi en Argentine\, entourée par la musique. Arrivée en France en 1994\, elle poursuit des études de flûte et passe son DE d’enseignement musical. Elle a travaillé pendant près de 20 ans au Centre Musical Caluire Bissardon\, dispensant des cours de flûte traversière\, initiation musicale\, chant choral et orchestre. Elle s’est également formée au chant à l’ENM de Villeurbanne et a chanté au sein de l’ensemble baroque de l’Hôtel-Dieu . Elle est membre de la Compagnie d’Artistes Lyriques Associés (CALA). \nPlus d’infos sur Paula Quiroga et son travail : www.auxvoixdessons.com \nEnfant de 4 à 6 ans \nTarif : 13€/enfant\n8€/enfant pour les titulaires des minimas sociaux (RSA\, ASS\, AAH\, ASPA…)\nTitulaire d’un « compte famille Ka’fête » : nous contacter pour réserver\nInfos : 04 78 61 21 79 ou CONTACT
URL:https://kafeteomomes.fr/evenement/decouverte-de-la-musique-2/
LOCATION:Ka’Fête ô Mômes\, 3 Montée des Esses\, Lyon\, 69004\, France
ATTACH;FMTTYPE=image/jpeg:https://kafeteomomes.fr/uploads/2017/11/Paula-atelier-chant.jpg
GEO:45.7740305;4.8122498
X-APPLE-STRUCTURED-LOCATION;VALUE=URI;X-ADDRESS=Ka’Fête ô Mômes 3 Montée des Esses Lyon 69004 France;X-APPLE-RADIUS=500;X-TITLE=3 Montée des Esses:geo:4.8122498,45.7740305
END:VEVENT
END:VCALENDAR