BEGIN:VCALENDAR
VERSION:2.0
PRODID:-//Ka&#039;Fête ô Mômes - ECPv5.9.0//NONSGML v1.0//EN
CALSCALE:GREGORIAN
METHOD:PUBLISH
X-WR-CALNAME:Ka&#039;Fête ô Mômes
X-ORIGINAL-URL:https://kafeteomomes.fr
X-WR-CALDESC:Évènements pour Ka&#039;Fête ô Mômes
BEGIN:VTIMEZONE
TZID:Europe/Paris
BEGIN:DAYLIGHT
TZOFFSETFROM:+0100
TZOFFSETTO:+0200
TZNAME:CEST
DTSTART:20220327T010000
END:DAYLIGHT
BEGIN:STANDARD
TZOFFSETFROM:+0200
TZOFFSETTO:+0100
TZNAME:CET
DTSTART:20221030T010000
END:STANDARD
END:VTIMEZONE
BEGIN:VEVENT
DTSTART;TZID=Europe/Paris:20220223T103000
DTEND;TZID=Europe/Paris:20220223T120000
DTSTAMP:20260421T213332
CREATED:20220214T150816Z
LAST-MODIFIED:20220214T165317Z
UID:5350-1645612200-1645617600@kafeteomomes.fr
SUMMARY:Chez les Ours
DESCRIPTION:Comptines & création\nProposé par Aurélie de « Aurelit »\nLectures\, comptines et jeux de doigts sur le thème des ours\, suivis d’un temps de création artistique adaptée aux petites mains. \nUn peu plus sur Aurélie…\nAurélie est passionnée de lecture à voix haute et de littérature jeunesse et en a fait son métier\, puisqu’elle est bibliothécaire jeunesse. Avec sa structure Aurelit\, elle veut transmettre aux enfants ces deux passions\, à travers des lectures à voix haute thématiques\, musicales\, etc. \n1 adulte + 1 enfant – 3 à 6 ans \nTarif : 20€/duo (5€ par personne supplémentaire)\n12€/duo pour les titulaires des minimas sociaux (RSA\, ASS\, AAH\, ASPA…)\nTitulaire d’un « compte famille Ka’fête » : nous contacter pour réserver\nInfos : 04 78 61 21 79 ou CONTACT\nJe clique ICI pour m’inscrire à cet atelier !
URL:https://kafeteomomes.fr/evenement/chez-les-ours/
LOCATION:Ka’Fête ô Mômes\, 3 Montée des Esses\, Lyon\, 69004\, France
CATEGORIES:Parents/Enfants
ATTACH;FMTTYPE=image/jpeg:https://kafeteomomes.fr/uploads/2022/02/atelierours-e1644850792488.jpeg
GEO:45.7740305;4.8122498
X-APPLE-STRUCTURED-LOCATION;VALUE=URI;X-ADDRESS=Ka’Fête ô Mômes 3 Montée des Esses Lyon 69004 France;X-APPLE-RADIUS=500;X-TITLE=3 Montée des Esses:geo:4.8122498,45.7740305
END:VEVENT
END:VCALENDAR