BEGIN:VCALENDAR
VERSION:2.0
PRODID:-//Ka&#039;Fête ô Mômes - ECPv5.9.0//NONSGML v1.0//EN
CALSCALE:GREGORIAN
METHOD:PUBLISH
X-WR-CALNAME:Ka&#039;Fête ô Mômes
X-ORIGINAL-URL:https://kafeteomomes.fr
X-WR-CALDESC:Évènements pour Ka&#039;Fête ô Mômes
BEGIN:VTIMEZONE
TZID:Europe/Paris
BEGIN:DAYLIGHT
TZOFFSETFROM:+0100
TZOFFSETTO:+0200
TZNAME:CEST
DTSTART:20220327T010000
END:DAYLIGHT
BEGIN:STANDARD
TZOFFSETFROM:+0200
TZOFFSETTO:+0100
TZNAME:CET
DTSTART:20221030T010000
END:STANDARD
END:VTIMEZONE
BEGIN:VEVENT
DTSTART;TZID=Europe/Paris:20220312T103000
DTEND;TZID=Europe/Paris:20220312T113000
DTSTAMP:20260422T071836
CREATED:20220112T172317Z
LAST-MODIFIED:20230606T121628Z
UID:5276-1647081000-1647084600@kafeteomomes.fr
SUMMARY:Atelier Montessori
DESCRIPTION:Découverte de la pédagogie Montessori par l’expérimentation\nApprend-moi à faire seul\, la pédagogie de l’instant présent\nProposé par Béatrice Hévin\, éducatrice Montessori\nDurant cet atelier\, Béatrice vous invite à faire une pause avec votre enfant et à prendre le temps de l’observer\, sans attente ni jugement\, avec un regard bienveillant. Il aura\, ou non\, la curiosité et l’envie d’aller vers les ateliers. Béatrice pourra l’y inviter\, lui apporter une présence\, et le laisser faire. Elle répondra aussi à vos questions concernant cette pédagogie et les moyens de favoriser l’autonomie de votre enfant pour le conduire vers plus d’indépendance.\nL’espace qui vous accueillera aura été préparé pour offrir à votre enfant la possibilité de choisir et de faire par lui-même. Source de satisfaction intense pour celui qui expérimente\, la pédagogie Montessori permet à l’enfant de faire et refaire jusqu’à l’épuisement de son intérêt. Elle favorise ainsi la concentration qui accompagne son développement. \nLa pédagogie Montessori…\nL’objectif de la pédagogie Montessori est d’aider l’enfant à se construire pleinement\, de manière autonome\, pour devenir un adulte confiant et responsable. Cette philosophie laisse aux enfants l’espace pour expérimenter le monde à leur rythme et dans leur individualité. L’enfant est acteur de sa propre vie\, responsable de ses propres gestes et possède toutes les clefs de sa réussite.\nMaria Montessori (1870-1952) était un médecin et pédagogue italien. En observant longuement les enfants\, elle a réalisé qu’ils étaient plus concentrés et avaient un meilleur contrôle d’eux-même en évoluant dans un environnement spécialement adapté. Elle a alors développé des activités destinées à les aider dans leur développement. \nEn savoir plus sur Béatrice…\nDevenue maman\, Béatrice s’est passionnée pour le développement de l’enfant. Conquise par la pédagogie Montessori\, découverte via l’école de ses enfants\, elle a souhaité accompagner les enfants et leurs parents en devenant éducatrice Montessori. C’est ainsi qu’après 20 ans dans les métiers de la production\, elle a obtenu son diplôme d’éducatrice Montessori AMI pour les 3-6ans. Elle a également exploré le fonctionnement de l’humain à travers l’approche PNL (Programmation Neuro Linguistique). \nAdulte + Enfant de 2\,5 à 5 ans (âge maternelle)\nTarif : ATELIER du 10/06/2023 GRATUIT dans le cadre du Mois de la Parentalité\nAutres dates : 16€/duo (5€ par personne supplémentaire) ou 10€/duo pour les minimas sociaux (3€ par personne supplémentaire)\nInfos : 04 78 61 21 79 ou CONTACT\nCOMPLET !\n 
URL:https://kafeteomomes.fr/evenement/atelier-montessori/2022-03-12/
LOCATION:Ka’Fête ô Mômes\, 3 Montée des Esses\, Lyon\, 69004\, France
CATEGORIES:Parents/Enfants
ATTACH;FMTTYPE=image/jpeg:https://kafeteomomes.fr/uploads/2022/01/WhatsApp-Image-2022-03-12-at-15.35.02.jpeg
GEO:45.7740305;4.8122498
X-APPLE-STRUCTURED-LOCATION;VALUE=URI;X-ADDRESS=Ka’Fête ô Mômes 3 Montée des Esses Lyon 69004 France;X-APPLE-RADIUS=500;X-TITLE=3 Montée des Esses:geo:4.8122498,45.7740305
END:VEVENT
END:VCALENDAR