BEGIN:VCALENDAR
VERSION:2.0
PRODID:-//Ka&#039;Fête ô Mômes - ECPv5.9.0//NONSGML v1.0//EN
CALSCALE:GREGORIAN
METHOD:PUBLISH
X-WR-CALNAME:Ka&#039;Fête ô Mômes
X-ORIGINAL-URL:https://kafeteomomes.fr
X-WR-CALDESC:Évènements pour Ka&#039;Fête ô Mômes
BEGIN:VTIMEZONE
TZID:Europe/Paris
BEGIN:DAYLIGHT
TZOFFSETFROM:+0100
TZOFFSETTO:+0200
TZNAME:CEST
DTSTART:20210328T010000
END:DAYLIGHT
BEGIN:STANDARD
TZOFFSETFROM:+0200
TZOFFSETTO:+0100
TZNAME:CET
DTSTART:20211031T010000
END:STANDARD
END:VTIMEZONE
BEGIN:VEVENT
DTSTART;TZID=Europe/Paris:20211210T170000
DTEND;TZID=Europe/Paris:20211210T180000
DTSTAMP:20260424T182418
CREATED:20211126T162614Z
LAST-MODIFIED:20220207T160701Z
UID:5184-1639155600-1639159200@kafeteomomes.fr
SUMMARY:Goûter-Atelier DIY en famille
DESCRIPTION:Fabrication de décorations de Noël autour d’un goûter\n\nProposé par Maly\, notre señorita bénévole\nEn famille\, avec les copains ou en solo\, vous dégusterez un bon goûter maison et fabriquerez des décorations de fêtes faciles et pas chères ! A partir de récup’ ou d’éléments naturels\, on fabrique de jolies pommes de pin bombées pour accrocher au sapin\, des serpentins\, des boules et étoiles de Noël\, une boîte de déco en papier cadeau… \nTarif FORMULE goûter-atelier : 10€ (duo adulte/enfant) ou 5€ (solo)\nInfos & réservation : nina@kafeteomomes.fr ou 04 78 61 21 79
URL:https://kafeteomomes.fr/evenement/atelier-diy-en-famille-2/
LOCATION:Ka’Fête ô Mômes\, 3 Montée des Esses\, Lyon\, 69004\, France
CATEGORIES:Parents/Enfants,Tous public
ATTACH;FMTTYPE=image/jpeg:https://kafeteomomes.fr/uploads/2021/11/pine-cone-gd91716a8e_1920-e1637943878252.jpg
GEO:45.7740305;4.8122498
X-APPLE-STRUCTURED-LOCATION;VALUE=URI;X-ADDRESS=Ka’Fête ô Mômes 3 Montée des Esses Lyon 69004 France;X-APPLE-RADIUS=500;X-TITLE=3 Montée des Esses:geo:4.8122498,45.7740305
END:VEVENT
END:VCALENDAR