BEGIN:VCALENDAR
VERSION:2.0
PRODID:-//Ka&#039;Fête ô Mômes - ECPv5.9.0//NONSGML v1.0//EN
CALSCALE:GREGORIAN
METHOD:PUBLISH
X-WR-CALNAME:Ka&#039;Fête ô Mômes
X-ORIGINAL-URL:https://kafeteomomes.fr
X-WR-CALDESC:Évènements pour Ka&#039;Fête ô Mômes
BEGIN:VTIMEZONE
TZID:Europe/Paris
BEGIN:DAYLIGHT
TZOFFSETFROM:+0100
TZOFFSETTO:+0200
TZNAME:CEST
DTSTART:20240331T010000
END:DAYLIGHT
BEGIN:STANDARD
TZOFFSETFROM:+0200
TZOFFSETTO:+0100
TZNAME:CET
DTSTART:20241027T010000
END:STANDARD
END:VTIMEZONE
BEGIN:VEVENT
DTSTART;TZID=Europe/Paris:20240706T143000
DTEND;TZID=Europe/Paris:20240706T163000
DTSTAMP:20260421T131933
CREATED:20240619T151539Z
LAST-MODIFIED:20240619T151539Z
UID:6544-1720276200-1720283400@kafeteomomes.fr
SUMMARY:Art en famille\, visite et atelier
DESCRIPTION:Exposition et atelier peinture !\nProposé par la Ka’fête ô Môme et la Salle de Bains\nVenez profitez de ce premier jour des grandes vacances d’été avec nous. \nAu programme : \nRendez-vous avec Lucile à 14h30 à la Salle de Bains (1 rue Louis Vitet)\, pour explorer l’univers de Mar Garcia Albert\, ouvrez grands vos yeux\, afin de remarquer tous les petits détails (livret découverte pour les enfants) \nPuis\, toujours en compagnie de Lucile\, venez à la Ka’fête à 15h30\, les enfants pourront exprimer leurs talents d’artistes peintres à la façon de Mar Garcia Albert. \nL’occasion pour toute la famille\, de faire un découverte culturelle\, de créer une œuvre d’art et de faire un bon goûter pour les plus gourmands! \nouvert à tous à partir de 5 ans \nGRATUIT\nsur réservation via hello asso.\nInfos : 04 78 61 21 79 ou CONTACT
URL:https://kafeteomomes.fr/evenement/art-en-famille-visite-et-atelier/
LOCATION:Ka’Fête ô Mômes\, 3 Montée des Esses\, Lyon\, 69004\, France
CATEGORIES:Parents/Enfants,Sorties familiales
ATTACH;FMTTYPE=image/png:https://kafeteomomes.fr/uploads/2024/06/atelier-artistique-6-juillet-2024-1-e1718809758675.png
GEO:45.7740305;4.8122498
X-APPLE-STRUCTURED-LOCATION;VALUE=URI;X-ADDRESS=Ka’Fête ô Mômes 3 Montée des Esses Lyon 69004 France;X-APPLE-RADIUS=500;X-TITLE=3 Montée des Esses:geo:4.8122498,45.7740305
END:VEVENT
END:VCALENDAR